BEGIN:VCALENDAR
VERSION:2.0
PRODID:-//William Barnes School - ECPv6.15.18//NONSGML v1.0//EN
CALSCALE:GREGORIAN
METHOD:PUBLISH
X-WR-CALNAME:William Barnes School
X-ORIGINAL-URL:https://williambarnes.dorset.sch.uk
X-WR-CALDESC:Events for William Barnes School
REFRESH-INTERVAL;VALUE=DURATION:PT1H
X-Robots-Tag:noindex
X-PUBLISHED-TTL:PT1H
BEGIN:VTIMEZONE
TZID:UTC
BEGIN:STANDARD
TZOFFSETFROM:+0000
TZOFFSETTO:+0000
TZNAME:UTC
DTSTART:20220101T000000
END:STANDARD
END:VTIMEZONE
BEGIN:VEVENT
DTSTART;VALUE=DATE:20231113
DTEND;VALUE=DATE:20231118
DTSTAMP:20260425T153300
CREATED:20231107T150438Z
LAST-MODIFIED:20231107T150512Z
UID:6244-1699833600-1700265599@williambarnes.dorset.sch.uk
SUMMARY:Anti-bullying week
DESCRIPTION:
URL:https://williambarnes.dorset.sch.uk/calendar/anti-bullying-week-3/
END:VEVENT
END:VCALENDAR