BEGIN:VCALENDAR
VERSION:2.0
PRODID:-//William Barnes School - ECPv6.15.18//NONSGML v1.0//EN
CALSCALE:GREGORIAN
METHOD:PUBLISH
X-WR-CALNAME:William Barnes School
X-ORIGINAL-URL:https://williambarnes.dorset.sch.uk
X-WR-CALDESC:Events for William Barnes School
REFRESH-INTERVAL;VALUE=DURATION:PT1H
X-Robots-Tag:noindex
X-PUBLISHED-TTL:PT1H
BEGIN:VTIMEZONE
TZID:UTC
BEGIN:STANDARD
TZOFFSETFROM:+0000
TZOFFSETTO:+0000
TZNAME:UTC
DTSTART:20210101T000000
END:STANDARD
END:VTIMEZONE
BEGIN:VEVENT
DTSTART;VALUE=DATE:20221107
DTEND;VALUE=DATE:20221112
DTSTAMP:20260425T103435
CREATED:20220920T120955Z
LAST-MODIFIED:20220920T120955Z
UID:4856-1667779200-1668211199@williambarnes.dorset.sch.uk
SUMMARY:Family Learning Week
DESCRIPTION:
URL:https://williambarnes.dorset.sch.uk/calendar/family-learning-week-2/
END:VEVENT
END:VCALENDAR